BEGIN:VCALENDAR
VERSION:2.0
PRODID:-//wp-events-plugin.com//5.99912//EN
TZID:Europe/Berlin
X-WR-TIMEZONE:Europe/Berlin
BEGIN:VEVENT
UID:6636@buddhistisches-zentrum-freiburg.de
DTSTART;TZID=Europe/Berlin:20260605T193000
DTEND;TZID=Europe/Berlin:20260607T170000
DTSTAMP:20260423T142808Z
URL:https://buddhistisches-zentrum-freiburg.de/programm/wochenendkurs-zur-
 praxis-der-21-taras/
SUMMARY:Wochenendkurs zur Praxis der 21 Taras
DESCRIPTION: mit Shabdrung Rinpoche   - näheres unter:  https://buddhistis
 ches-zentrum-freiburg.de/programm/wochenendkurs-zur-praxis-der-21-taras/
ATTACH;FMTTYPE=image/jpeg:https://buddhistisches-zentrum-freiburg.de/wp-co
 ntent/uploads/Shabdrung_Rinpoche.jpg
CATEGORIES:Einzelvortrag,Kurse, Seminare
END:VEVENT
BEGIN:VTIMEZONE
TZID:Europe/Berlin
X-LIC-LOCATION:Europe/Berlin
BEGIN:DAYLIGHT
DTSTART:20260329T030000
TZOFFSETFROM:+0100
TZOFFSETTO:+0200
TZNAME:CEST
END:DAYLIGHT
END:VTIMEZONE
END:VCALENDAR