BEGIN:VCALENDAR
VERSION:2.0
PRODID:-//wp-events-plugin.com//5.99912//EN
TZID:Europe/Berlin
X-WR-TIMEZONE:Europe/Berlin
BEGIN:VEVENT
UID:6294@buddhistisches-zentrum-freiburg.de
DTSTART;TZID=Europe/Berlin:20261106T193000
DTEND;TZID=Europe/Berlin:20261108T130000
DTSTAMP:20250901T082830Z
URL:https://buddhistisches-zentrum-freiburg.de/programm/wochenendkurs-mit-
 lama-sherab-8/
SUMMARY:Wochenendkurs mit Lama Sherab
DESCRIPTION:  - näheres unter:  https://buddhistisches-zentrum-freiburg.de
 /programm/wochenendkurs-mit-lama-sherab-8/
ATTACH;FMTTYPE=image/jpeg:https://buddhistisches-zentrum-freiburg.de/wp-co
 ntent/uploads/Lamas/sherab2015.jpg
CATEGORIES:Kurse, Seminare
END:VEVENT
BEGIN:VTIMEZONE
TZID:Europe/Berlin
X-LIC-LOCATION:Europe/Berlin
BEGIN:STANDARD
DTSTART:20261025T020000
TZOFFSETFROM:+0200
TZOFFSETTO:+0100
TZNAME:CET
END:STANDARD
END:VTIMEZONE
END:VCALENDAR