BEGIN:VCALENDAR
VERSION:2.0
PRODID:-//wp-events-plugin.com//5.99912//EN
TZID:Europe/Berlin
X-WR-TIMEZONE:Europe/Berlin
BEGIN:VEVENT
UID:6295@buddhistisches-zentrum-freiburg.de
DTSTART;TZID=Europe/Berlin:20261227T193000
DTEND;TZID=Europe/Berlin:20270101T130000
DTSTAMP:20250901T083140Z
URL:https://buddhistisches-zentrum-freiburg.de/programm/neujahrskurs-mit-l
 ama-rabjam-8/
SUMMARY:Neujahrskurs mit Lama Rabjam  -  Stille Meditation zwischen den Jah
 ren 
DESCRIPTION: Stille Meditation zwischen den Jahren   - näheres unter:  htt
 ps://buddhistisches-zentrum-freiburg.de/programm/neujahrskurs-mit-lama-rab
 jam-8/
ATTACH;FMTTYPE=image/jpeg:https://buddhistisches-zentrum-freiburg.de/wp-co
 ntent/uploads/Lama-Rabjam-Bild2.png
CATEGORIES:Kurse, Seminare
END:VEVENT
BEGIN:VTIMEZONE
TZID:Europe/Berlin
X-LIC-LOCATION:Europe/Berlin
BEGIN:STANDARD
DTSTART:20261025T020000
TZOFFSETFROM:+0200
TZOFFSETTO:+0100
TZNAME:CET
END:STANDARD
END:VTIMEZONE
END:VCALENDAR